Package: Repitools Version: 1.55.0 Command: /Library/Frameworks/R.framework/Resources/bin/R CMD INSTALL Repitools StartedAt: 2025-07-07 15:33:20 -0400 (Mon, 07 Jul 2025) EndedAt: 2025-07-07 15:33:20 -0400 (Mon, 07 Jul 2025) EllapsedTime: 0.1 seconds RetCode: 1 Status: ERROR