Package: Repitools Version: 1.55.0 Command: /Library/Frameworks/R.framework/Resources/bin/R CMD build --keep-empty-dirs --no-resave-data Repitools StartedAt: 2025-07-07 17:18:46 -0400 (Mon, 07 Jul 2025) EndedAt: 2025-07-07 17:18:47 -0400 (Mon, 07 Jul 2025) EllapsedTime: 1.0 seconds RetCode: 1 Status: ERROR PackageFile: None PackageFileSize: NA