############################################################################## ############################################################################## ### ### Running command: ### ### /Library/Frameworks/R.framework/Resources/bin/R CMD build --keep-empty-dirs --no-resave-data Repitools ### ############################################################################## ############################################################################## * checking for file ‘Repitools/DESCRIPTION’ ... OK * preparing ‘Repitools’: * checking DESCRIPTION meta-information ... OK * cleaning src * installing the package to build vignettes ----------------------------------- ERROR: dependency ‘gsmoothr’ is not available for package ‘Repitools’ Perhaps try a variation of: install.packages('gsmoothr') * removing ‘/private/var/folders/r0/l4fjk6cj5xj0j3brt4bplpl40000gt/T/Rtmpy48AE4/Rinst29711d84ed72/Repitools’ ----------------------------------- ERROR: package installation failed