Package: RepViz Version: 1.25.0 Command: F:\biocbuild\bbs-3.22-bioc\R\bin\R.exe CMD INSTALL RepViz StartedAt: 2025-06-29 15:54:11 -0400 (Sun, 29 Jun 2025) EndedAt: 2025-06-29 15:54:38 -0400 (Sun, 29 Jun 2025) EllapsedTime: 27.6 seconds RetCode: 0 Status: OK