Package: RepViz Version: 1.25.0 Command: chmod a+r RepViz -R && F:\biocbuild\bbs-3.22-bioc\R\bin\R.exe CMD build --keep-empty-dirs --no-resave-data RepViz StartedAt: 2025-06-29 21:32:31 -0400 (Sun, 29 Jun 2025) EndedAt: 2025-06-29 21:33:13 -0400 (Sun, 29 Jun 2025) EllapsedTime: 41.5 seconds RetCode: 0 Status: OK PackageFile: RepViz_1.25.0.tar.gz PackageFileSize: 188.6 KiB