Package: RegionalST Version: 1.7.0 Command: /home/biocbuild/R/R/bin/R CMD INSTALL RegionalST StartedAt: 2025-07-14 21:20:17 -0000 (Mon, 14 Jul 2025) EndedAt: 2025-07-14 21:20:52 -0000 (Mon, 14 Jul 2025) EllapsedTime: 34.7 seconds RetCode: 0 Status: OK