Package: RegionalST Version: 1.7.0 Command: /home/biocbuild/R/R/bin/R CMD check --install=check:RegionalST.install-out.txt --library=/home/biocbuild/R/R/site-library --no-vignettes --timings RegionalST_1.7.0.tar.gz StartedAt: 2025-07-15 11:00:08 -0000 (Tue, 15 Jul 2025) EndedAt: 2025-07-15 11:05:15 -0000 (Tue, 15 Jul 2025) EllapsedTime: 307.3 seconds RetCode: 0 Status: OK CheckDir: RegionalST.Rcheck Warnings: 0