Package: RegionalST Version: 1.7.0 Command: /home/biocbuild/R/R/bin/R CMD build --keep-empty-dirs --no-resave-data RegionalST StartedAt: 2025-07-15 02:11:09 -0000 (Tue, 15 Jul 2025) EndedAt: 2025-07-15 02:13:30 -0000 (Tue, 15 Jul 2025) EllapsedTime: 141.1 seconds RetCode: 0 Status: OK PackageFile: RegionalST_1.7.0.tar.gz PackageFileSize: 2.573 MiB