Package: RegEnrich Version: 1.19.0 Command: F:\biocbuild\bbs-3.22-bioc\R\bin\R.exe CMD INSTALL RegEnrich StartedAt: 2025-07-13 16:07:27 -0400 (Sun, 13 Jul 2025) EndedAt: 2025-07-13 16:08:35 -0400 (Sun, 13 Jul 2025) EllapsedTime: 67.2 seconds RetCode: 0 Status: OK