Package: RegEnrich Version: 1.19.0 Command: F:\biocbuild\bbs-3.22-bioc\R\bin\R.exe CMD check --no-multiarch --install=check:RegEnrich.install-out.txt --library=F:\biocbuild\bbs-3.22-bioc\R\library --no-vignettes --timings RegEnrich_1.19.0.tar.gz StartedAt: 2025-07-14 05:41:27 -0400 (Mon, 14 Jul 2025) EndedAt: 2025-07-14 05:47:58 -0400 (Mon, 14 Jul 2025) EllapsedTime: 391.8 seconds RetCode: 0 Status: OK CheckDir: RegEnrich.Rcheck Warnings: 0