Package: RegEnrich Version: 1.19.0 Command: chmod a+r RegEnrich -R && F:\biocbuild\bbs-3.22-bioc\R\bin\R.exe CMD build --keep-empty-dirs --no-resave-data RegEnrich StartedAt: 2025-07-13 21:35:48 -0400 (Sun, 13 Jul 2025) EndedAt: 2025-07-13 21:42:05 -0400 (Sun, 13 Jul 2025) EllapsedTime: 376.9 seconds RetCode: 0 Status: OK PackageFile: RegEnrich_1.19.0.tar.gz PackageFileSize: 1.137 MiB