Package: RegEnrich Version: 1.19.0 Command: /Library/Frameworks/R.framework/Resources/bin/R CMD build --keep-empty-dirs --no-resave-data RegEnrich StartedAt: 2025-06-27 17:18:50 -0400 (Fri, 27 Jun 2025) EndedAt: 2025-06-27 17:20:47 -0400 (Fri, 27 Jun 2025) EllapsedTime: 117.4 seconds RetCode: 0 Status: OK PackageFile: RegEnrich_1.19.0.tar.gz PackageFileSize: 1.136 MiB