Package: RedisParam Version: 1.11.0 Command: F:\biocbuild\bbs-3.22-bioc\R\bin\R.exe CMD INSTALL RedisParam StartedAt: 2025-06-29 15:38:49 -0400 (Sun, 29 Jun 2025) EndedAt: 2025-06-29 15:39:21 -0400 (Sun, 29 Jun 2025) EllapsedTime: 31.3 seconds RetCode: 0 Status: OK