Package: RedisParam Version: 1.11.0 Command: chmod a+r RedisParam -R && F:\biocbuild\bbs-3.22-bioc\R\bin\R.exe CMD build --keep-empty-dirs --no-resave-data RedisParam StartedAt: 2025-06-29 21:30:56 -0400 (Sun, 29 Jun 2025) EndedAt: 2025-06-29 21:31:38 -0400 (Sun, 29 Jun 2025) EllapsedTime: 42.6 seconds RetCode: 0 Status: OK PackageFile: RedisParam_1.11.0.tar.gz PackageFileSize: 950.6 KiB