Package: RedisParam Version: 1.11.0 Command: /Library/Frameworks/R.framework/Resources/bin/R CMD check --install=check:RedisParam.install-out.txt --library=/Library/Frameworks/R.framework/Resources/library --no-vignettes --timings RedisParam_1.11.0.tar.gz StartedAt: 2025-06-29 22:44:55 -0400 (Sun, 29 Jun 2025) EndedAt: 2025-06-29 22:45:32 -0400 (Sun, 29 Jun 2025) EllapsedTime: 36.8 seconds RetCode: 0 Status: OK CheckDir: RedisParam.Rcheck Warnings: 0