Package: RedisParam Version: 1.11.0 Command: rm -rf RedisParam.buildbin-libdir && mkdir RedisParam.buildbin-libdir && /Users/biocbuild/BBS/utils/build-universal.sh RedisParam_1.11.0.tar.gz /Library/Frameworks/R.framework/Resources/bin/R RedisParam.buildbin-libdir StartedAt: 2025-06-29 22:30:16 -0400 (Sun, 29 Jun 2025) EndedAt: 2025-06-29 22:30:18 -0400 (Sun, 29 Jun 2025) EllapsedTime: 2.0 seconds RetCode: 0 Status: OK PackageFile: RedisParam_1.11.0.tgz PackageFileSize: 1.002 MiB