Package: RedeR Version: 3.5.0 Command: /home/biocbuild/R/R/bin/R CMD INSTALL RedeR StartedAt: 2025-06-26 20:13:56 -0000 (Thu, 26 Jun 2025) EndedAt: 2025-06-26 20:14:23 -0000 (Thu, 26 Jun 2025) EllapsedTime: 26.6 seconds RetCode: 0 Status: OK