Package: RedeR Version: 3.5.0 Command: /home/biocbuild/R/R/bin/R CMD check --install=check:RedeR.install-out.txt --library=/home/biocbuild/R/R/site-library --no-vignettes --timings RedeR_3.5.0.tar.gz StartedAt: 2025-06-27 10:35:48 -0000 (Fri, 27 Jun 2025) EndedAt: 2025-06-27 10:36:30 -0000 (Fri, 27 Jun 2025) EllapsedTime: 42.1 seconds RetCode: 0 Status: OK CheckDir: RedeR.Rcheck Warnings: 0