Package: RedeR Version: 3.5.0 Command: /home/biocbuild/R/R/bin/R CMD build --keep-empty-dirs --no-resave-data RedeR StartedAt: 2025-06-27 01:59:37 -0000 (Fri, 27 Jun 2025) EndedAt: 2025-06-27 01:59:53 -0000 (Fri, 27 Jun 2025) EllapsedTime: 16.0 seconds RetCode: 0 Status: OK PackageFile: RedeR_3.5.0.tar.gz PackageFileSize: 4.416 MiB