Package: RedeR Version: 3.5.0 Command: /home/biocbuild/bbs-3.22-bioc/R/bin/R CMD check --install=check:RedeR.install-out.txt --library=/home/biocbuild/bbs-3.22-bioc/R/site-library --timings RedeR_3.5.0.tar.gz StartedAt: 2025-06-30 01:31:56 -0400 (Mon, 30 Jun 2025) EndedAt: 2025-06-30 01:32:35 -0400 (Mon, 30 Jun 2025) EllapsedTime: 39.0 seconds RetCode: 0 Status: OK CheckDir: RedeR.Rcheck Warnings: 0