Package: RedeR Version: 3.5.0 Command: /Library/Frameworks/R.framework/Resources/bin/R CMD INSTALL RedeR StartedAt: 2025-06-29 15:07:29 -0400 (Sun, 29 Jun 2025) EndedAt: 2025-06-29 15:08:19 -0400 (Sun, 29 Jun 2025) EllapsedTime: 50.2 seconds RetCode: 0 Status: OK