Package: RedeR Version: 3.5.0 Command: rm -rf RedeR.buildbin-libdir && mkdir RedeR.buildbin-libdir && /Users/biocbuild/BBS/utils/build-universal.sh RedeR_3.5.0.tar.gz /Library/Frameworks/R.framework/Resources/bin/R RedeR.buildbin-libdir StartedAt: 2025-06-30 00:56:17 -0400 (Mon, 30 Jun 2025) EndedAt: 2025-06-30 00:56:30 -0400 (Mon, 30 Jun 2025) EllapsedTime: 12.8 seconds RetCode: 0 Status: OK PackageFile: RedeR_3.5.0.tgz PackageFileSize: 3.628 MiB