Package: RedeR Version: 3.5.0 Command: /Library/Frameworks/R.framework/Resources/bin/R CMD INSTALL RedeR StartedAt: 2025-06-29 15:04:22 -0400 (Sun, 29 Jun 2025) EndedAt: 2025-06-29 15:04:31 -0400 (Sun, 29 Jun 2025) EllapsedTime: 8.7 seconds RetCode: 0 Status: OK