Package: RedeR Version: 3.5.0 Command: /Library/Frameworks/R.framework/Resources/bin/R CMD build --keep-empty-dirs --no-resave-data RedeR StartedAt: 2025-06-29 17:20:53 -0400 (Sun, 29 Jun 2025) EndedAt: 2025-06-29 17:21:00 -0400 (Sun, 29 Jun 2025) EllapsedTime: 6.1 seconds RetCode: 0 Status: OK PackageFile: RedeR_3.5.0.tar.gz PackageFileSize: 4.347 MiB