Package: ReadqPCR Version: 1.55.0 Command: chmod a+r ReadqPCR -R && F:\biocbuild\bbs-3.22-bioc\R\bin\R.exe CMD build --keep-empty-dirs --no-resave-data ReadqPCR StartedAt: 2025-07-11 21:30:04 -0400 (Fri, 11 Jul 2025) EndedAt: 2025-07-11 21:30:42 -0400 (Fri, 11 Jul 2025) EllapsedTime: 37.7 seconds RetCode: 0 Status: OK PackageFile: ReadqPCR_1.55.0.tar.gz PackageFileSize: 386.5 KiB