Package: ReadqPCR Version: 1.55.0 Command: rm -rf ReadqPCR.buildbin-libdir && mkdir ReadqPCR.buildbin-libdir && F:\biocbuild\bbs-3.22-bioc\R\bin\R.exe CMD INSTALL --build --library=ReadqPCR.buildbin-libdir ReadqPCR_1.55.0.tar.gz StartedAt: 2025-07-12 09:38:10 -0400 (Sat, 12 Jul 2025) EndedAt: 2025-07-12 09:38:23 -0400 (Sat, 12 Jul 2025) EllapsedTime: 12.8 seconds RetCode: 0 Status: OK PackageFile: ReadqPCR_1.55.0.zip PackageFileSize: 460.6 KiB