Package: ReadqPCR Version: 1.55.0 Command: /Library/Frameworks/R.framework/Resources/bin/R CMD INSTALL ReadqPCR StartedAt: 2025-07-01 15:07:05 -0400 (Tue, 01 Jul 2025) EndedAt: 2025-07-01 15:07:07 -0400 (Tue, 01 Jul 2025) EllapsedTime: 1.3 seconds RetCode: 0 Status: OK