Package: ReadqPCR Version: 1.55.0 Command: /Library/Frameworks/R.framework/Resources/bin/R CMD build --keep-empty-dirs --no-resave-data ReadqPCR StartedAt: 2025-07-01 17:19:13 -0400 (Tue, 01 Jul 2025) EndedAt: 2025-07-01 17:19:18 -0400 (Tue, 01 Jul 2025) EllapsedTime: 5.1 seconds RetCode: 0 Status: OK PackageFile: ReadqPCR_1.55.0.tar.gz PackageFileSize: 490.5 KiB