Package: ReadqPCR Version: 1.55.0 Command: rm -rf ReadqPCR.buildbin-libdir && mkdir ReadqPCR.buildbin-libdir && /Users/biocbuild/BBS/utils/build-universal.sh ReadqPCR_1.55.0.tar.gz /Library/Frameworks/R.framework/Resources/bin/R ReadqPCR.buildbin-libdir StartedAt: 2025-07-01 22:31:02 -0400 (Tue, 01 Jul 2025) EndedAt: 2025-07-01 22:31:04 -0400 (Tue, 01 Jul 2025) EllapsedTime: 2.1 seconds RetCode: 0 Status: OK PackageFile: ReadqPCR_1.55.0.tgz PackageFileSize: 568.4 KiB