############################################################################## ############################################################################## ### ### Running command: ### ### F:\biocbuild\bbs-3.22-bioc\R\bin\R.exe CMD check --no-multiarch --install=check:ReactomeGSA.install-out.txt --library=F:\biocbuild\bbs-3.22-bioc\R\library --no-vignettes --timings ReactomeGSA_1.23.0.tar.gz ### ############################################################################## ############################################################################## * using log directory 'F:/biocbuild/bbs-3.22-bioc/meat/ReactomeGSA.Rcheck' * using R version 4.5.1 (2025-06-13 ucrt) * using platform: x86_64-w64-mingw32 * R was compiled by gcc.exe (GCC) 14.2.0 GNU Fortran (GCC) 14.2.0 * running under: Windows Server 2022 x64 (build 20348) * using session charset: UTF-8 * using option '--no-vignettes' * checking for file 'ReactomeGSA/DESCRIPTION' ... OK * checking extension type ... Package * this is package 'ReactomeGSA' version '1.23.0' * package encoding: UTF-8 * checking package namespace information ... OK * checking package dependencies ... OK * checking if this is a source package ... OK * checking if there is a namespace ... OK * checking for hidden files and directories ... OK * checking for portable file names ... OK * checking whether package 'ReactomeGSA' can be installed ... OK * checking installed package size ... OK * checking package directory ... OK * checking 'build' directory ... OK * checking DESCRIPTION meta-information ... OK * checking top-level files ... OK * checking for left-over files ... OK * checking index information ... OK * checking package subdirectories ... OK * checking code files for non-ASCII characters ... OK * checking R files for syntax errors ... OK * checking whether the package can be loaded ... OK * checking whether the package can be loaded with stated dependencies ... OK * checking whether the package can be unloaded cleanly ... OK * checking whether the namespace can be loaded with stated dependencies ... OK * checking whether the namespace can be unloaded cleanly ... OK * checking whether startup messages can be suppressed ... OK * checking dependencies in R code ... OK * checking S3 generic/method consistency ... OK * checking replacement functions ... OK * checking foreign function calls ... OK * checking R code for possible problems ... NOTE plot_correlations,ReactomeAnalysisResult: no visible binding for global variable 'combined_sig' plot_correlations,ReactomeAnalysisResult: no visible binding for global variable 'alpha' plot_gsva_pathway,ReactomeAnalysisResult: no visible binding for global variable 'cluster_id' plot_gsva_pathway,ReactomeAnalysisResult: no visible binding for global variable 'expr' plot_gsva_pca,ReactomeAnalysisResult: no visible binding for global variable 'gsva_result' plot_gsva_pca,ReactomeAnalysisResult: no visible binding for global variable 'PC1' plot_gsva_pca,ReactomeAnalysisResult: no visible binding for global variable 'PC2' plot_heatmap,ReactomeAnalysisResult: no visible global function definition for 'desc' plot_heatmap,ReactomeAnalysisResult: no visible binding for global variable 'n_sig' plot_heatmap,ReactomeAnalysisResult: no visible binding for global variable 'dataset' plot_heatmap,ReactomeAnalysisResult: no visible binding for global variable 'Name' plot_volcano,ReactomeAnalysisResult: no visible binding for global variable 'av_foldchange' plot_volcano,ReactomeAnalysisResult: no visible binding for global variable 'FDR' Undefined global functions or variables: FDR Name PC1 PC2 alpha av_foldchange cluster_id combined_sig dataset desc expr gsva_result n_sig * checking Rd files ... OK * checking Rd metadata ... OK * checking Rd cross-references ... OK * checking for missing documentation entries ... OK * checking for code/documentation mismatches ... OK * checking Rd \usage sections ... OK * checking Rd contents ... OK * checking for unstated dependencies in examples ... OK * checking files in 'vignettes' ... OK * checking examples ... OK Examples with CPU (user + system) or elapsed time > 5s user system elapsed analyse_sc_clusters-Seurat-method 40.82 3.44 83.17 plot_gsva_heatmap-ReactomeAnalysisResult-method 39.83 2.94 79.50 analyse_sc_clusters 38.38 3.36 122.72 plot_gsva_pca-ReactomeAnalysisResult-method 36.59 3.28 105.93 plot_gsva_pathway 36.52 2.98 71.09 analyse_sc_clusters-SingleCellExperiment-method 35.19 2.86 73.99 plot_gsva_pca 34.61 2.97 75.09 plot_gsva_pathway-ReactomeAnalysisResult-method 34.19 2.30 68.59 plot_gsva_heatmap 33.81 2.53 69.07 generate_pseudo_bulk_data 17.68 2.34 21.56 ReactomeAnalysisRequest 6.25 0.58 6.85 perform_reactome_analysis 4.28 0.30 19.72 load_public_dataset 2.34 0.24 42.91 * checking for unstated dependencies in 'tests' ... OK * checking tests ... Running 'testthat.R' OK * checking for unstated dependencies in vignettes ... OK * checking package vignettes ... OK * checking running R code from vignettes ... SKIPPED * checking re-building of vignette outputs ... SKIPPED * checking PDF version of manual ... OK * DONE Status: 1 NOTE See 'F:/biocbuild/bbs-3.22-bioc/meat/ReactomeGSA.Rcheck/00check.log' for details.