Package: ReactomeGSA Version: 1.23.0 Command: chmod a+r ReactomeGSA -R && F:\biocbuild\bbs-3.22-bioc\R\bin\R.exe CMD build --keep-empty-dirs --no-resave-data ReactomeGSA StartedAt: 2025-07-01 21:30:55 -0400 (Tue, 01 Jul 2025) EndedAt: 2025-07-01 21:39:26 -0400 (Tue, 01 Jul 2025) EllapsedTime: 511.4 seconds RetCode: 0 Status: OK PackageFile: ReactomeGSA_1.23.0.tar.gz PackageFileSize: 161.9 KiB