Package: Rcwl Version: 1.25.0 Command: /home/biocbuild/bbs-3.22-bioc/R/bin/R CMD check --install=check:Rcwl.install-out.txt --library=/home/biocbuild/bbs-3.22-bioc/R/site-library --timings Rcwl_1.25.0.tar.gz StartedAt: 2025-07-16 01:32:43 -0400 (Wed, 16 Jul 2025) EndedAt: 2025-07-16 01:34:23 -0400 (Wed, 16 Jul 2025) EllapsedTime: 100.1 seconds RetCode: 0 Status: OK CheckDir: Rcwl.Rcheck Warnings: 0