Package: Rcpi Version: 1.45.0 Command: /home/biocbuild/R/R/bin/R CMD INSTALL Rcpi StartedAt: 2025-07-10 21:53:03 -0000 (Thu, 10 Jul 2025) EndedAt: 2025-07-10 21:53:24 -0000 (Thu, 10 Jul 2025) EllapsedTime: 21.1 seconds RetCode: 0 Status: OK