Package: Rcpi Version: 1.45.0 Command: /home/biocbuild/R/R/bin/R CMD check --install=check:Rcpi.install-out.txt --library=/home/biocbuild/R/R/site-library --no-vignettes --timings Rcpi_1.45.0.tar.gz StartedAt: 2025-07-15 10:57:15 -0000 (Tue, 15 Jul 2025) EndedAt: 2025-07-15 10:59:36 -0000 (Tue, 15 Jul 2025) EllapsedTime: 141.2 seconds RetCode: 0 Status: OK CheckDir: Rcpi.Rcheck Warnings: 0