Package: Rcpi Version: 1.45.0 Command: /home/biocbuild/R/R/bin/R CMD build --keep-empty-dirs --no-resave-data Rcpi StartedAt: 2025-07-11 03:16:24 -0000 (Fri, 11 Jul 2025) EndedAt: 2025-07-11 03:16:52 -0000 (Fri, 11 Jul 2025) EllapsedTime: 28.0 seconds RetCode: 0 Status: OK PackageFile: Rcpi_1.45.0.tar.gz PackageFileSize: 3.097 MiB