Package: Rcpi Version: 1.45.0 Command: /home/biocbuild/bbs-3.22-bioc/R/bin/R CMD build --keep-empty-dirs --no-resave-data --md5 Rcpi StartedAt: 2025-07-14 18:47:32 -0400 (Mon, 14 Jul 2025) EndedAt: 2025-07-14 18:47:53 -0400 (Mon, 14 Jul 2025) EllapsedTime: 21.0 seconds RetCode: 0 Status: OK PackageFile: Rcpi_1.45.0.tar.gz PackageFileSize: 2.979 MiB