Package: Rcpi Version: 1.45.0 Command: /Library/Frameworks/R.framework/Resources/bin/R CMD INSTALL Rcpi StartedAt: 2025-07-13 15:23:28 -0400 (Sun, 13 Jul 2025) EndedAt: 2025-07-13 15:23:35 -0400 (Sun, 13 Jul 2025) EllapsedTime: 6.4 seconds RetCode: 0 Status: OK