Package: Rcpi Version: 1.45.0 Command: /Library/Frameworks/R.framework/Resources/bin/R CMD build --keep-empty-dirs --no-resave-data Rcpi StartedAt: 2025-07-13 17:18:22 -0400 (Sun, 13 Jul 2025) EndedAt: 2025-07-13 17:18:33 -0400 (Sun, 13 Jul 2025) EllapsedTime: 11.1 seconds RetCode: 0 Status: OK PackageFile: Rcpi_1.45.0.tar.gz PackageFileSize: 2.971 MiB