Package: Rcpi Version: 1.45.0 Command: rm -rf Rcpi.buildbin-libdir && mkdir Rcpi.buildbin-libdir && /Users/biocbuild/BBS/utils/build-universal.sh Rcpi_1.45.0.tar.gz /Library/Frameworks/R.framework/Resources/bin/R Rcpi.buildbin-libdir StartedAt: 2025-07-14 22:30:59 -0400 (Mon, 14 Jul 2025) EndedAt: 2025-07-14 22:31:07 -0400 (Mon, 14 Jul 2025) EllapsedTime: 8.1 seconds RetCode: 0 Status: OK PackageFile: Rcpi_1.45.0.tgz PackageFileSize: 2.592 MiB