Package: Rcpi Version: 1.45.0 Maintainer: Nan Xiao MaintainerEmail: me at nanx.me git_url: https://git.bioconductor.org/packages/Rcpi git_branch: devel git_last_commit: dba81ab git_last_commit_date: 2025-04-15 10:29:42 -0400 (Tue, 15 Apr 2025)