Package: RcisTarget Version: 1.29.0 Command: F:\biocbuild\bbs-3.22-bioc\R\bin\R.exe CMD INSTALL RcisTarget StartedAt: 2025-07-01 16:08:46 -0400 (Tue, 01 Jul 2025) EndedAt: 2025-07-01 16:09:46 -0400 (Tue, 01 Jul 2025) EllapsedTime: 60.3 seconds RetCode: 0 Status: OK