Package: RcisTarget Version: 1.29.0 Command: F:\biocbuild\bbs-3.22-bioc\R\bin\R.exe CMD check --no-multiarch --install=check:RcisTarget.install-out.txt --library=F:\biocbuild\bbs-3.22-bioc\R\library --no-vignettes --timings RcisTarget_1.29.0.tar.gz StartedAt: 2025-07-03 05:40:56 -0400 (Thu, 03 Jul 2025) EndedAt: 2025-07-03 05:48:43 -0400 (Thu, 03 Jul 2025) EllapsedTime: 467.2 seconds RetCode: 0 Status: OK CheckDir: RcisTarget.Rcheck Warnings: 0