Package: RcisTarget Version: 1.29.0 Command: rm -rf RcisTarget.buildbin-libdir && mkdir RcisTarget.buildbin-libdir && F:\biocbuild\bbs-3.22-bioc\R\bin\R.exe CMD INSTALL --build --library=RcisTarget.buildbin-libdir RcisTarget_1.29.0.tar.gz StartedAt: 2025-07-02 09:39:15 -0400 (Wed, 02 Jul 2025) EndedAt: 2025-07-02 09:40:39 -0400 (Wed, 02 Jul 2025) EllapsedTime: 83.7 seconds RetCode: 0 Status: OK PackageFile: RcisTarget_1.29.0.zip PackageFileSize: 12.83 MiB