Package: Rbwa Version: 1.13.0 Command: /home/biocbuild/R/R/bin/R CMD INSTALL Rbwa StartedAt: 2025-07-24 20:58:09 -0000 (Thu, 24 Jul 2025) EndedAt: 2025-07-24 20:58:37 -0000 (Thu, 24 Jul 2025) EllapsedTime: 27.8 seconds RetCode: 0 Status: OK