Package: Rbwa Version: 1.13.0 Command: /home/biocbuild/bbs-3.22-bioc/R/bin/R CMD build --keep-empty-dirs --no-resave-data --md5 Rbwa StartedAt: 2025-07-01 18:45:42 -0400 (Tue, 01 Jul 2025) EndedAt: 2025-07-01 18:46:01 -0400 (Tue, 01 Jul 2025) EllapsedTime: 19.0 seconds RetCode: 0 Status: OK PackageFile: Rbwa_1.13.0.tar.gz PackageFileSize: 654.4 KiB