Package: Rbwa Version: 1.13.0 Command: /Library/Frameworks/R.framework/Resources/bin/R CMD INSTALL Rbwa StartedAt: 2025-07-22 15:01:39 -0400 (Tue, 22 Jul 2025) EndedAt: 2025-07-22 15:01:45 -0400 (Tue, 22 Jul 2025) EllapsedTime: 6.2 seconds RetCode: 0 Status: OK