Package: Rbwa Version: 1.13.0 Command: /Library/Frameworks/R.framework/Resources/bin/R CMD check --install=check:Rbwa.install-out.txt --library=/Library/Frameworks/R.framework/Resources/library --no-vignettes --timings Rbwa_1.13.0.tar.gz StartedAt: 2025-07-22 21:00:29 -0400 (Tue, 22 Jul 2025) EndedAt: 2025-07-22 21:00:41 -0400 (Tue, 22 Jul 2025) EllapsedTime: 12.3 seconds RetCode: 0 Status: WARNINGS CheckDir: Rbwa.Rcheck Warnings: 1