Package: Rbwa Version: 1.13.0 Command: /Library/Frameworks/R.framework/Resources/bin/R CMD build --keep-empty-dirs --no-resave-data Rbwa StartedAt: 2025-07-22 17:18:57 -0400 (Tue, 22 Jul 2025) EndedAt: 2025-07-22 17:19:05 -0400 (Tue, 22 Jul 2025) EllapsedTime: 8.1 seconds RetCode: 0 Status: OK PackageFile: Rbwa_1.13.0.tar.gz PackageFileSize: 651.3 KiB