Package: Rbwa Version: 1.13.0 Command: rm -rf Rbwa.buildbin-libdir && mkdir Rbwa.buildbin-libdir && /Users/biocbuild/BBS/utils/build-universal.sh Rbwa_1.13.0.tar.gz /Library/Frameworks/R.framework/Resources/bin/R Rbwa.buildbin-libdir StartedAt: 2025-07-22 22:36:25 -0400 (Tue, 22 Jul 2025) EndedAt: 2025-07-22 22:36:33 -0400 (Tue, 22 Jul 2025) EllapsedTime: 7.2 seconds RetCode: 0 Status: OK PackageFile: Rbwa_1.13.0.tgz PackageFileSize: 634.1 KiB