Package: RbowtieCuda Version: 0.99.0 Command: chmod a+r RbowtieCuda -R && F:\biocbuild\bbs-3.22-bioc\R\bin\R.exe CMD build --keep-empty-dirs --no-resave-data RbowtieCuda StartedAt: 2025-04-08 21:44:57 -0400 (Tue, 08 Apr 2025) EndedAt: 2025-04-08 21:45:43 -0400 (Tue, 08 Apr 2025) EllapsedTime: 46.2 seconds RetCode: 1 Status: ERROR PackageFile: None PackageFileSize: NA